BEGIN:VCALENDAR
VERSION:2.0
PRODID:-//Muckleshoot Bingo - ECPv6.15.18//NONSGML v1.0//EN
CALSCALE:GREGORIAN
METHOD:PUBLISH
X-ORIGINAL-URL:https://muckleshootbingo.com
X-WR-CALDESC:Events for Muckleshoot Bingo
REFRESH-INTERVAL;VALUE=DURATION:PT1H
X-Robots-Tag:noindex
X-PUBLISHED-TTL:PT1H
BEGIN:VTIMEZONE
TZID:America/Los_Angeles
BEGIN:DAYLIGHT
TZOFFSETFROM:-0800
TZOFFSETTO:-0700
TZNAME:PDT
DTSTART:20250309T100000
END:DAYLIGHT
BEGIN:STANDARD
TZOFFSETFROM:-0700
TZOFFSETTO:-0800
TZNAME:PST
DTSTART:20251102T090000
END:STANDARD
BEGIN:DAYLIGHT
TZOFFSETFROM:-0800
TZOFFSETTO:-0700
TZNAME:PDT
DTSTART:20260308T100000
END:DAYLIGHT
BEGIN:STANDARD
TZOFFSETFROM:-0700
TZOFFSETTO:-0800
TZNAME:PST
DTSTART:20261101T090000
END:STANDARD
BEGIN:DAYLIGHT
TZOFFSETFROM:-0800
TZOFFSETTO:-0700
TZNAME:PDT
DTSTART:20270314T100000
END:DAYLIGHT
BEGIN:STANDARD
TZOFFSETFROM:-0700
TZOFFSETTO:-0800
TZNAME:PST
DTSTART:20271107T090000
END:STANDARD
END:VTIMEZONE
BEGIN:VEVENT
DTSTART;TZID=America/Los_Angeles:20260425T184000
DTEND;TZID=America/Los_Angeles:20260425T230000
DTSTAMP:20260423T071541
CREATED:20260327T221100Z
LAST-MODIFIED:20260331T174625Z
UID:10038847-1777142400-1777158000@muckleshootbingo.com
SUMMARY:Breakout XL Evening Session
DESCRIPTION:https://muckleshootbingo.com/wp-content/uploads/2026/03/MB_Breakout_April_2026_30_HD-H264.mp4\n20 Regular Games Paying $1\,199 Each!\nJoin us the fourth Saturday of the month for our Breakout Bingo XL Session with (3) hot seat cash drawings for $1\,199!  \n20 Regular Games Paying $1\,199 Each \nPLUS (3) Drawings for $1\,199 Cash \nBuy-ins: $25/each 9-ON\, $9/each Extra 3-ON \nElectronic Packages Available \n(No Late Night This Day.)
URL:https://muckleshootbingo.com/event/breakout-xl-evening-session-4/
CATEGORIES:Breakout XL Evening
ATTACH;FMTTYPE=image/jpeg:https://muckleshootbingo.com/wp-content/uploads/2025/01/Muckleshoot-Bingo_Breakout-XL_Website-Image_rev-2025.GENERIC.jpg
END:VEVENT
END:VCALENDAR